BEGIN:VCALENDAR
VERSION:2.0
PRODID:-//Florida Club Leagues - ECPv6.15.18//NONSGML v1.0//EN
CALSCALE:GREGORIAN
METHOD:PUBLISH
X-ORIGINAL-URL:https://floridaclubleagues.com
X-WR-CALDESC:Events for Florida Club Leagues
REFRESH-INTERVAL;VALUE=DURATION:PT1H
X-Robots-Tag:noindex
X-PUBLISHED-TTL:PT1H
BEGIN:VTIMEZONE
TZID:America/New_York
BEGIN:DAYLIGHT
TZOFFSETFROM:-0500
TZOFFSETTO:-0400
TZNAME:EDT
DTSTART:20250309T070000
END:DAYLIGHT
BEGIN:STANDARD
TZOFFSETFROM:-0400
TZOFFSETTO:-0500
TZNAME:EST
DTSTART:20251102T060000
END:STANDARD
BEGIN:DAYLIGHT
TZOFFSETFROM:-0500
TZOFFSETTO:-0400
TZNAME:EDT
DTSTART:20260308T070000
END:DAYLIGHT
BEGIN:STANDARD
TZOFFSETFROM:-0400
TZOFFSETTO:-0500
TZNAME:EST
DTSTART:20261101T060000
END:STANDARD
BEGIN:DAYLIGHT
TZOFFSETFROM:-0500
TZOFFSETTO:-0400
TZNAME:EDT
DTSTART:20270314T070000
END:DAYLIGHT
BEGIN:STANDARD
TZOFFSETFROM:-0400
TZOFFSETTO:-0500
TZNAME:EST
DTSTART:20271107T060000
END:STANDARD
END:VTIMEZONE
BEGIN:VEVENT
DTSTART;VALUE=DATE:20260425
DTEND;VALUE=DATE:20260427
DTSTAMP:20260423T160654
CREATED:20250307T232513Z
LAST-MODIFIED:20260420T174110Z
UID:68958-1777075200-1777247999@floridaclubleagues.com
SUMMARY:2026 NPL Playoffs
DESCRIPTION:Event Details\nThe Florida NPL Playoffs bring together the top teams from each Division in a final showdown to determine the overall winner. The champion will earn a spot in the NPL Finals in July. \nKey Info: \nDates: April 25–26\, 2026 \nLocation: Starkey Ranch District Park\n11880 Lake Blanche DriveOdessa\, FL 33556 \nWho Qualifies: Top 1 team from each Florida NPL Division + Wildcard* \nFormat: Single Elimination – Semi’s(Sat) & Finals(Sun) \nNext Stage: NPL Finals – Denver\, CO – July 7-11\, 2026 \n*Wildcard = top 2nd place team Overall (based on PPG) \nSchedule\n\n2026 NPL Florida playoff Schedule\n\n \nNOTE: Brackets determined using Random/Blind Draw for North #1\, West #1\, South #1 and Wildcard.  \nAdvancing Teams will be seeded into the pre-determined brackets as they qualify. \nReferee Fee Info\nReferee Fees: \n– Teams are responsible for referee fees\n– Split between teams\, invoiced to clubs directly\n– No cash accepted on site \nFees by Age Group:\n \nU13: $200 total ($100/team)\nU14–U16: $205 total ($102.50/team)\nU17–U19: $250 total ($125/team) \nAdvancement Info\nWinners of the NPL Florida Playoffs will advance to the NPL Finals in Denver\, CO – July 2026 \nClick Link below for full NPL Finals Details… \nNPL FINALS INFO  \n 
URL:https://floridaclubleagues.com/event/2026-npl-playoffs/
LOCATION:Starkey Ranch District Park\, Odessa\, FL 33556\, 11880 Lake Blanche Drive\, Odessa\, FL\, 33556\, United States
CATEGORIES:Events
ATTACH;FMTTYPE=image/jpeg:https://floridaclubleagues.com/wp-content/uploads/2025/06/NPL-Playoffs-img.jpg
END:VEVENT
BEGIN:VEVENT
DTSTART;VALUE=DATE:20260509
DTEND;VALUE=DATE:20260511
DTSTAMP:20260423T160654
CREATED:20250307T201214Z
LAST-MODIFIED:20260420T174449Z
UID:68904-1778284800-1778457599@floridaclubleagues.com
SUMMARY:2026 Florida Cup
DESCRIPTION:2026 Florida Cup\nThe 2026 Florida Cup is a statewide competition for U9–U18/19.\nU13–U18/19 play a straight single-elimination bracket.\nFinals take place May 9–10\, 2026 at Premier Sports Campus\, Lakewood Ranch\, FL. \n\n\n\nSchedule\n\n2026 Florida Cup Schedule\n\n \nRules\n\nClick here for FL Cup Rules\n\n \nStore\n\nClick here to buy Florida Cup Merch\n\n \nHotels\n\nClick here for Hotels Nearby\n\n \nRegistration Fees\n\nU13–U18/19: $400\n\nPost Season Advancement\nWinners (1st Place) of the Florida Cup will advance to the US Club National Cup in Denver\, July 2026 \nNATIONAL CUP INFO \nFinalists (2nd Place) of the Florida Cup will be offered a spot at the US Club SE Regional Cup in North Carolina\, June 2026 \nSOUTHEAST  REGIONAL CUP INFO \n\n  \n\nKey Dates (All Divisions)\n\n\n\nMilestone\nDate\n\n\nRegistration Fees Due\nSept 12\, 2025\n\n\nDrawing Date\nSept 19\, 2025\n\n\nInitial Roster Freeze\nSept 24\, 2025\n\n\nFinals Rosters Open\nApr 27\, 2026\n\n\nFinals Roster Freeze\nMay 4\, 2026\n\n\nFinals Weekend\nMay 9–10\, 2026\n\n\n\n\n\n\n \n\n\n\nU13–U18/19 Divisions\nSingle-Elimination Structure by Age Group\n\n\n\n\n\nAge Group\nFirst Round Format\n\n\n\n\nU13 Male\nRound of 32\n\n\nU13 Female\nRound of 16\n\n\nU14 Male\nRound of 32\n\n\nU14 Female\nRound of 32\n\n\nU15 Male\nRound of 32\n\n\nU15 Female\nRound of 32\n\n\nU16 Male\nRound of 32\n\n\nU16 Female\nRound of 32\n\n\nU17 Male\nRound of 32\n\n\nU17 Female\nRound of 16\n\n\nU18/19 Male\nRound of 32\n\n\nU18/19 Female\nRound of 16\n\n\n\n\n\nFinals Weekend: May 9–10\, 2026 at Premier Sports Campus\, Lakewood Ranch\, FL. \n\n\n\n\nCompetition Windows (Round of 16 Groups)\n\n\nRound of 16\nSept 29\, 2025 – Jan 11\, 2026 \n\n\nQuarterfinals\nJan 12 – Apr 26\, 2026 \n\n\nFinals Weekend\nMay 9–10\, 2026 \n\n\nCompetition Windows (Round of 32 Groups)\n\n\nRound of 32\nSept 29 – Dec 7\, 2025 \n\n\nRound of 16\nDec 8\, 2025 – Feb 15\, 2026 \n\n\nQuarterfinals\nFeb 15 – Apr 26\, 2026 \n\n\nFinals Weekend\nMay 9–10\, 2026 \n\n\n\n \n\n\n 
URL:https://floridaclubleagues.com/event/2026-florida-cup/
LOCATION:Premier Sports Campus at Lakewood Ranch\, 5895 Post Blvd\, Lakewood Ranch\, Florida\, 34211\, United States
CATEGORIES:Events
ATTACH;FMTTYPE=image/png:https://floridaclubleagues.com/wp-content/uploads/2025/03/Copy-of-RegistrationX-Website.png
END:VEVENT
BEGIN:VEVENT
DTSTART;VALUE=DATE:20260509
DTEND;VALUE=DATE:20260511
DTSTAMP:20260423T160654
CREATED:20251107T210413Z
LAST-MODIFIED:20260421T020201Z
UID:72571-1778284800-1778457599@floridaclubleagues.com
SUMMARY:2026 Florida Cup Juniors - Registration Open!
DESCRIPTION:2026 Florida Cup Juniors\n \nThe 2026 Florida Cup JUNIORS is a statewide competition for U9–U12\, showcasing Florida’s top youth talent.\nJuniors (U9–U12) play a three-game group stage followed by Finals.\nFinals take place May 9–10\, 2026 at Premier Sports Campus\, Lakewood Ranch\, FL.\n(in Conjunction with the Florida Cup U13-19 FINALS!!) \n\n \n\nRules\n\nClick here for FL Junior Cup Rules\n\n \nBrackets\nclick here for junior cup brackets  \nSchedule – coming soon\n\n  \n  \n\nStore\n\nClick here to buy Florida Cup Merch \n\n\nHotels\n\nClick here for Hotels Nearby\n\n \nRegistration Fee\n\nU9–U12: $500\n\n\nClick here to Register Now – CLOSED\n\n \n 
URL:https://floridaclubleagues.com/event/2026-florida-cup-juniors/
LOCATION:Premier Sports Campus at Lakewood Ranch\, 5895 Post Blvd\, Lakewood Ranch\, Florida\, 34211\, United States
CATEGORIES:Events
ATTACH;FMTTYPE=image/jpeg:https://floridaclubleagues.com/wp-content/uploads/2025/11/Copy-of-RegistrationX-Website-6.jpg
END:VEVENT
END:VCALENDAR